BEGIN:VCALENDAR
VERSION:2.0
METHOD:PUBLISH
X-WR-CALNAME:Mercociudades |  mayo 02 2010- agosto 10 2010
PRODID:-//strange bird labs//Drupal iCal API//EN
BEGIN:VEVENT
DTSTAMP;VALUE=DATE-TIME:20260424T092022Z
DTSTART;VALUE=DATE-TIME:20100505T133000Z
DTEND;VALUE=DATE-TIME:20100505T190000Z
UID:http://mercociudades.net/node/2062
URL;VALUE=URI:http://mercociudades.net/node/2062
SUMMARY:Reunion Mercociudades Mayo
DESCRIPTION:<p>Sed vestibulum pulvinar vitae\, amet enim tempus nibh\, nec pulvinar volutpat ut suspendisse\, sed nunc tellus vivamus pellentesque praesent sed. Arcu velit. In venenatis mauris in\, eleifend consectetuer varius nibh\, non diam in nostrud amet\, arcu sem sit malesuada nec tortor\, adipiscing quisque volutpat semper nascetur mollis. Convallis ullamcorper nostrum dui id\, nunc ligula sit morbi interdum tincidunt\, dui dignissim nonummy tellus leo\, ut nonummy in fusce rhoncus diam sodales. Dignissim vel turpis platea\, nulla quam nulla eu sollicitudin donec.</p>
 
END:VEVENT
END:VCALENDAR
