BEGIN:VCALENDAR
VERSION:2.0
METHOD:PUBLISH
X-WR-CALNAME:Mercociudades |  diciembre 19 2010- marzo 29 2011
PRODID:-//strange bird labs//Drupal iCal API//EN
BEGIN:VEVENT
DTSTAMP;VALUE=DATE-TIME:20260425T202025Z
DTSTART;VALUE=DATE-TIME:20110208T030000Z
DTEND;VALUE=DATE-TIME:20110208T030000Z
UID:http://mercociudades.net/node/2423
URL;VALUE=URI:http://mercociudades.net/node/2423
SUMMARY:9ª Asamblea Mundial de FAL – Foro de Autoridades Locales. 
DESCRIPTION:<p>La actividad se realizar&aacute\; en Dakar\, Senegal.</p>
 
END:VEVENT
BEGIN:VEVENT
DTSTAMP;VALUE=DATE-TIME:20260425T202025Z
DTSTART;VALUE=DATE-TIME:20110210T030000Z
DTEND;VALUE=DATE-TIME:20020203
UID:http://mercociudades.net/node/2421
URL;VALUE=URI:http://mercociudades.net/node/2421
SUMMARY:Reunión de la Comisión Directiva de MERCOCIUDADES
DESCRIPTION:<p>La Reuni&oacute\;n de la Comisi&oacute\;n Directiva de MERCOCIUDADES se realizar&aacute\; en Belo Horizonte\, Brasil. <br />
 El objetivo de esta reuni&oacute\;n es la planificaci&oacute\;n de las actividades 2011 de la red.</p>
 <p>M&aacute\;s informaci&oacute\;n en\:<br />
 Web\: <a href=\\"http\://www.pbh.gov.br/internacional\\">Portal de la Prefeitura de Belo Horizonte</a><br />
 E-mail\:<a href=\\"http\://ca.mercociudades@pbh.gov.br\\">ca.mercociudades@pbh.gov.br</a><br />
 &nbsp\;</p>
 
END:VEVENT
BEGIN:VEVENT
DTSTAMP;VALUE=DATE-TIME:20260425T202025Z
DTSTART;VALUE=DATE-TIME:20110225T190900Z
DTEND;VALUE=DATE-TIME:20020203
UID:http://mercociudades.net/node/3106
URL;VALUE=URI:http://mercociudades.net/node/3106
SUMMARY:Comisión de Derechos Humanos de Mercociudades - Reunión de Comité Consultivo
DESCRIPTION:<p>Comisi&oacute\;n de Derechos Humanos de Mercociudades - Reuni&oacute\;n de Comit&eacute\; Consultivo\, en el marco del encuentro del proyecto Estado + Derechos\, a realizarse en Montevideo\, Uruguay.&nbsp\;<a href=\\"http\://www.mercociudades.org/node/2475\\">M&aacute\;s &nbsp\;informaci&oacute\;n</a></p>
 <p>&nbsp\;</p>
 
END:VEVENT
BEGIN:VEVENT
DTSTAMP;VALUE=DATE-TIME:20260425T202025Z
DTSTART;VALUE=DATE-TIME:20110308T191700Z
DTEND;VALUE=DATE-TIME:20020203
UID:http://mercociudades.net/node/3107
URL;VALUE=URI:http://mercociudades.net/node/3107
SUMMARY:Día Internacional de la Mujer
DESCRIPTION:<p>&nbsp\;D&iacute\;a Internacional de la Mujer</p>
 
END:VEVENT
BEGIN:VEVENT
DTSTAMP;VALUE=DATE-TIME:20260425T202025Z
DTSTART;VALUE=DATE-TIME:20110324T192900Z
DTEND;VALUE=DATE-TIME:20020203
UID:http://mercociudades.net/node/2497
URL;VALUE=URI:http://mercociudades.net/node/2497
SUMMARY:Aniversario
DESCRIPTION:<p>35&ordm\; aniversario del Terrorismo de  Estado en Argentina  (Proyecto E+D)</p>
 
END:VEVENT
BEGIN:VEVENT
DTSTAMP;VALUE=DATE-TIME:20260425T202025Z
DTSTART;VALUE=DATE-TIME:20110326T030000Z
DTEND;VALUE=DATE-TIME:20020203
UID:http://mercociudades.net/node/2422
URL;VALUE=URI:http://mercociudades.net/node/2422
SUMMARY:20 años del MERCOSUR
DESCRIPTION:<p>Actividades por la conmemoraci&oacute\;n de los 20 a&ntilde\;os del Mercosur.</p>
 
END:VEVENT
BEGIN:VEVENT
DTSTAMP;VALUE=DATE-TIME:20260425T202025Z
DTSTART;VALUE=DATE-TIME:20110327T192600Z
DTEND;VALUE=DATE-TIME:20020203
UID:http://mercociudades.net/node/2498
URL;VALUE=URI:http://mercociudades.net/node/2498
SUMMARY:Actividad UCCI
DESCRIPTION:<p><span id=\\"internal-source-marker_0.5521338172267791\\" style=\\"font-size\: 10pt\; font-family\: Verdana\; color\: rgb(0\, 0\, 0)\; background-color\: transparent\; font-weight\: normal\; font-style\: normal\; text-decoration\: none\; vertical-align\: baseline\;\\">Comit&eacute\; Ejecutivo de la Uni&oacute\;n de Ciudades Capitales Iberoamericanas\, Quito\, Ecuador.</span></p>
 
END:VEVENT
BEGIN:VEVENT
DTSTAMP;VALUE=DATE-TIME:20260425T202025Z
DTSTART;VALUE=DATE-TIME:20110328T155700Z
DTEND;VALUE=DATE-TIME:20020203
UID:http://mercociudades.net/node/2494
URL;VALUE=URI:http://mercociudades.net/node/2494
SUMMARY:Reunión de Coordinadores y subcoordinadores de UT's
DESCRIPTION:<p>Reuni&oacute\;n de Coordinadores y subcoordinadores de las <a href=\\"http\://www.mercociudades.org/node/2286\\">Unidades Tem&aacute\;ticas</a> de Mercociudades.</p>
 <p>La misma se llevar&aacute\; a cabo en la ciudad de Montevideo\, Uruguay.<br />
 <a href=\\"http\://www.mercociudades.org/node/2530\\">M&aacute\;s informaci&oacute\;n.</a></p>
 <p>
 &nbsp\;</p>
 
END:VEVENT
END:VCALENDAR
