BEGIN:VCALENDAR
VERSION:2.0
METHOD:PUBLISH
X-WR-CALNAME:Mercociudades |  abril 13 2014- abril 20 2014
PRODID:-//strange bird labs//Drupal iCal API//EN
BEGIN:VEVENT
DTSTAMP;VALUE=DATE-TIME:20260423T182554Z
DTSTART;VALUE=DATE-TIME:20140412T160100Z
DTEND;VALUE=DATE-TIME:20020203
UID:http://mercociudades.net/node/4703
URL;VALUE=URI:http://mercociudades.net/node/4703
SUMMARY:Actividad de la Unidad Temática de Integración Fronteriza
DESCRIPTION:<p>Artigas\, Uruguay.</p>
 <p>Contacto\: <a href=\\"mailto\:sergio.senoranes@artigas.gub.uy\\">sergio.senoranes@artigas.gub.uy</a></p>
 
END:VEVENT
END:VCALENDAR
