BEGIN:VCALENDAR
VERSION:2.0
METHOD:PUBLISH
X-WR-CALNAME:Mercociudades |  February 19 2017- February 26 2017
PRODID:-//strange bird labs//Drupal iCal API//EN
BEGIN:VEVENT
DTSTAMP;VALUE=DATE-TIME:20260420T073345Z
DTSTART;VALUE=DATE-TIME:20170220T190700Z
DTEND;VALUE=DATE-TIME:20020203
UID:http://mercociudades.net/pt-br/node/6218
URL;VALUE=URI:http://mercociudades.net/pt-br/node/6218
SUMMARY:Retiro y Campus de Ciudades y Gobiernos Locales Unidos
DESCRIPTION:<p>Retiro y Campus de Ciudades y Gobiernos Locales Unidos\, con la&nbsp\;participaci&oacute\;n de Mercociudades en calidad de co-vicepresidencia de&nbsp\;Am&eacute\;rica Latina.</p>
 <p><a href=\\"http\://www.mercociudades.org/node/6216\\">M&aacute\;s informaci&oacute\;n</a></p>
 <p>&nbsp\;</p>
 
END:VEVENT
END:VCALENDAR
