BEGIN:VCALENDAR
VERSION:2.0
METHOD:PUBLISH
X-WR-CALNAME:Mercociudades |  December 06 2018- March 16 2019
PRODID:-//strange bird labs//Drupal iCal API//EN
BEGIN:VEVENT
DTSTAMP;VALUE=DATE-TIME:20260426T004835Z
DTSTART;VALUE=DATE-TIME:20181205T173500Z
DTEND;VALUE=DATE-TIME:20020203
UID:http://mercociudades.net/pt-br/node/6848
URL;VALUE=URI:http://mercociudades.net/pt-br/node/6848
SUMMARY:23ª Cumbre de Mercociudades
DESCRIPTION:<p>Cumbre de Mercociudades\, en La Paz\, Bolivia.</p>
 <p><a href=\\"http\://www.mercociudades.org \\" title=\\"www.mercociudades.org \\">www.mercociudades.org </a></p>
 
END:VEVENT
BEGIN:VEVENT
DTSTAMP;VALUE=DATE-TIME:20260426T004835Z
DTSTART;VALUE=DATE-TIME:20181209T152900Z
DTEND;VALUE=DATE-TIME:20020203
UID:http://mercociudades.net/pt-br/node/6665
URL;VALUE=URI:http://mercociudades.net/pt-br/node/6665
SUMMARY:Día Internacional contra la Corrupción
DESCRIPTION:<p>D&iacute\;a Internacional contra la Corrupci&oacute\;n</p>
 
END:VEVENT
BEGIN:VEVENT
DTSTAMP;VALUE=DATE-TIME:20260426T004835Z
DTSTART;VALUE=DATE-TIME:20181210T153100Z
DTEND;VALUE=DATE-TIME:20020203
UID:http://mercociudades.net/pt-br/node/6666
URL;VALUE=URI:http://mercociudades.net/pt-br/node/6666
SUMMARY:Día Internacional de los Derechos Humanos
DESCRIPTION:<p>D&iacute\;a Internacional de los Derechos Humanos</p>
 
END:VEVENT
END:VCALENDAR
